BEGIN:VCALENDAR
VERSION:2.0
METHOD:PUBLISH
BEGIN:VEVENT
DTSTART:20170928T000000Z
DTEND:20180107T000000Z
LOCATION:La Casa Encendida
TRANSP:OPAQUE
SEQUENCE:0
UID:
DTSTAMP:20260419T211427Z
SUMMARY:Anna Bella Geiger, geografía física y humana
DESCRIPTION:La Casa Encendida de Fundación Montemadrid acoge una exposición dedicada a Anna Bella Geiger (Río de Janeiro, Brasil, 1933). 'Geografía Física y Humana' está comisariada por Estrella de Diego y realiza un recorrido completo por la obra de esta artista imprescindible en la historia del arte conceptual brasileño.
PRIORITY:1
CLASS:PUBLIC
BEGIN:VALARM
TRIGGER:-PT10080M
ACTION:DISPLAY
DESCRIPTION:Reminder
END:VALARM
END:VEVENT
END:VCALENDAR
