BEGIN:VCALENDAR
VERSION:2.0
METHOD:PUBLISH
BEGIN:VEVENT
DTSTART:20200226T000000Z
DTEND:20200301T000000Z
LOCATION:Galería de Cristal del Palacio de Cibeles
TRANSP:OPAQUE
SEQUENCE:0
UID:
DTSTAMP:20260421T115248Z
SUMMARY:Art Madrid, 15 años y mucho dinamismo
DESCRIPTION:
PRIORITY:1
CLASS:PUBLIC
BEGIN:VALARM
TRIGGER:-PT10080M
ACTION:DISPLAY
DESCRIPTION:Reminder
END:VALARM
END:VEVENT
END:VCALENDAR
