BEGIN:VCALENDAR
VERSION:2.0
METHOD:PUBLISH
BEGIN:VEVENT
DTSTART:20140326T000000Z
DTEND:20140427T000000Z
LOCATION:Teatro Galileo
TRANSP:OPAQUE
SEQUENCE:0
UID:
DTSTAMP:20260423T073536Z
SUMMARY:¡Ay Carmela! en el Teatro Galileo
DESCRIPTION:Elisa Matilla y Jacobo Dicenta protagonizan ‘¡Ay Carmela!’ en el Teatro Galileo de Madrid, uno de los textos de la dramaturgia española que más se ha representado en todo el mundo. Esta obra de José Sanchís Sinisterra, dirigida por José Bornas, ofrece una panorámica de la Guerra Civil de la mano de una modesta compañía de teatro que atraviesa por error la línea que separa a ambos bandos.
PRIORITY:1
CLASS:PUBLIC
BEGIN:VALARM
TRIGGER:-PT10080M
ACTION:DISPLAY
DESCRIPTION:Reminder
END:VALARM
END:VEVENT
END:VCALENDAR
