BEGIN:VCALENDAR
VERSION:2.0
METHOD:PUBLISH
BEGIN:VEVENT
DTSTART:20130715T000100Z
DTEND:20130815T235900Z
LOCATION:
TRANSP:OPAQUE
SEQUENCE:0
UID:
DTSTAMP:20260421T081603Z
SUMMARY:De festival de música, sin salir de casa
DESCRIPTION:Tras la buena acogida del pasado año, Filmin Music Fest regresa a completar el panorama de festivales musicales veraniegos. Si el pasado año los protagonistas estelares fueron Bob Marley, Michel Petrucciani y Nacho Vegas, éste, los estrenos exclusivos se multiplican y los protagonizan estrellas como Courtney Love, David Bowie o Janis Joplin.
PRIORITY:1
CLASS:PUBLIC
BEGIN:VALARM
TRIGGER:-PT10080M
ACTION:DISPLAY
DESCRIPTION:Reminder
END:VALARM
END:VEVENT
END:VCALENDAR
