BEGIN:VCALENDAR
VERSION:2.0
METHOD:PUBLISH
BEGIN:VEVENT
DTSTART:20161115T000000Z
DTEND:20161201T000000Z
LOCATION:Facultad de Bellas Artes UCM, Madrid
TRANSP:OPAQUE
SEQUENCE:0
UID:
DTSTAMP:20260424T170212Z
SUMMARY:Diez artistas en busca del proceso creativo
DESCRIPTION:La Sala de Exposiciones de la Facultad de Bellas Artes de la Universidad Complutense de Madrid acoge 'En proceso', una muestra colectiva en la que 10 artistas hacen un ejercicio de autosugestión para abordar el tema del proceso creativo como parte integrante de la obra.
PRIORITY:1
CLASS:PUBLIC
BEGIN:VALARM
TRIGGER:-PT10080M
ACTION:DISPLAY
DESCRIPTION:Reminder
END:VALARM
END:VEVENT
END:VCALENDAR
