BEGIN:VCALENDAR
VERSION:2.0
METHOD:PUBLISH
BEGIN:VEVENT
DTSTART:20161028T000000Z
DTEND:20170212T000000Z
LOCATION:Museo de América
TRANSP:OPAQUE
SEQUENCE:0
UID:
DTSTAMP:20260421T104207Z
SUMMARY:El arte de sentarse en América
DESCRIPTION:El Museo de América (Madrid) acoge la exposición ‘Así me siento. Posturas, objetos y significados del descanso en América’, que reflexiona, desde una perspectiva antropológica, acerca de las distintas formas históricas de sentarse en el continente americano y sobre el mobiliario asociado a ellas.
PRIORITY:1
CLASS:PUBLIC
BEGIN:VALARM
TRIGGER:-PT10080M
ACTION:DISPLAY
DESCRIPTION:Reminder
END:VALARM
END:VEVENT
END:VCALENDAR
