BEGIN:VCALENDAR
VERSION:2.0
METHOD:PUBLISH
BEGIN:VEVENT
DTSTART:20260310T000000Z
DTEND:20260322T000000Z
LOCATION:Teatro Real
TRANSP:OPAQUE
SEQUENCE:0
UID:
DTSTAMP:20260420T085019Z
SUMMARY:Benjamin Britten regresa al Teatro Real
DESCRIPTION:
PRIORITY:1
CLASS:PUBLIC
BEGIN:VALARM
TRIGGER:-PT10080M
ACTION:DISPLAY
DESCRIPTION:Reminder
END:VALARM
END:VEVENT
END:VCALENDAR
