BEGIN:VCALENDAR
VERSION:2.0
METHOD:PUBLISH
BEGIN:VEVENT
DTSTART:20260306T000000Z
DTEND:20260830T000000Z
LOCATION:Fundación Bancaja (Valencia)
TRANSP:OPAQUE
SEQUENCE:0
UID:
DTSTAMP:20260422T133810Z
SUMMARY:El último Tàpies, el pintor de las grandes preguntas
DESCRIPTION:
PRIORITY:1
CLASS:PUBLIC
BEGIN:VALARM
TRIGGER:-PT10080M
ACTION:DISPLAY
DESCRIPTION:Reminder
END:VALARM
END:VEVENT
END:VCALENDAR
