BEGIN:VCALENDAR
VERSION:2.0
METHOD:PUBLISH
BEGIN:VEVENT
DTSTART:20160304T000000Z
DTEND:20160605T000000Z
LOCATION:CaixaForum Barcelona 
TRANSP:OPAQUE
SEQUENCE:0
UID:
DTSTAMP:20260423T153743Z
SUMMARY:Gestos iconoclastas, imágenes heterodoxas
DESCRIPTION:La destrucción de imágenes cuenta con una larga historia con capítulos destacados en distintos lugares del mundo, incluido nuestro país. Algunos de los acontecimientos más recientes han devuelto al imaginario colectivo la figura del iconoclasta. La Obra Social ”la Caixa” presenta hasta el 5 de junio 'Gestos iconoclastas, imágenes heterodoxas', un proyecto expositivo del comisario Carlos Martín (Granada, 1979) que invita a los espectadores a reflexionar sobre el fenómeno de la destrucción y el reaprovechamiento de las imágenes. Así, los artistas seleccionados tratan temas como la dialéctica entre creación y destrucción, la conversión de la experiencia en reliquia o el aura del objeto artístico.
PRIORITY:1
CLASS:PUBLIC
BEGIN:VALARM
TRIGGER:-PT10080M
ACTION:DISPLAY
DESCRIPTION:Reminder
END:VALARM
END:VEVENT
END:VCALENDAR
