BEGIN:VCALENDAR
VERSION:2.0
METHOD:PUBLISH
BEGIN:VEVENT
DTSTART:20230425T000000Z
DTEND:20230730T000000Z
LOCATION:Museo Nacional del Prado
TRANSP:OPAQUE
SEQUENCE:0
UID:
DTSTAMP:20260423T154511Z
SUMMARY:Francisco de Herrera &#8216;el Mozo&#8217; o el Barroco total
DESCRIPTION:
PRIORITY:1
CLASS:PUBLIC
BEGIN:VALARM
TRIGGER:-PT10080M
ACTION:DISPLAY
DESCRIPTION:Reminder
END:VALARM
END:VEVENT
END:VCALENDAR
