BEGIN:VCALENDAR
VERSION:2.0
METHOD:PUBLISH
BEGIN:VEVENT
DTSTART:20160721T000000Z
DTEND:20161002T000000Z
LOCATION:Museo Nacional de Cerámica, Valencia
TRANSP:OPAQUE
SEQUENCE:0
UID:
DTSTAMP:20260421T214738Z
SUMMARY:La creación cerámica más relevante
DESCRIPTION:El Museo Nacional de Cerámica y Artes Suntuarias "González Martí" (Valencia) acoge la exposición 'Fuera de serie. De la provocación a la ilusión', que reúne a los 50 artistas contemporáneos más relevantes del panorama español de la creación cerámica. Comisariada por Carmen González Borrás, la muestra refleja el momento actual que vive la cerámica artística en España a través de cuatro salas diferenciadas conceptualmente.
PRIORITY:1
CLASS:PUBLIC
BEGIN:VALARM
TRIGGER:-PT10080M
ACTION:DISPLAY
DESCRIPTION:Reminder
END:VALARM
END:VEVENT
END:VCALENDAR
