BEGIN:VCALENDAR
VERSION:2.0
METHOD:PUBLISH
BEGIN:VEVENT
DTSTART:20141125T000000Z
DTEND:20150201T000000Z
LOCATION:Real Academia de Bellas Artes de San Fernando
TRANSP:OPAQUE
SEQUENCE:0
UID:
DTSTAMP:20260421T152642Z
SUMMARY:El gran álbum de la España del XIX
DESCRIPTION:La Real Academia de Bellas Artes de San Fernando (Madrid) acoge hasta febrero de 2015 la exposición 'Richard Ford. Viajes por España (1830-1833)'. La muestra, realizada en colaboración con la Fundación Mapfre, revela una faceta poco conocida del viajero hispanista, sus dibujos, que constituyen un complemento visual de su conocida obra 'Manual para viajeros por España y lectores en casa'.
PRIORITY:1
CLASS:PUBLIC
BEGIN:VALARM
TRIGGER:-PT10080M
ACTION:DISPLAY
DESCRIPTION:Reminder
END:VALARM
END:VEVENT
END:VCALENDAR
