BEGIN:VCALENDAR
VERSION:2.0
METHOD:PUBLISH
BEGIN:VEVENT
DTSTART:20181026T000000Z
DTEND:20190127T000000Z
LOCATION:CentroCentro
TRANSP:OPAQUE
SEQUENCE:0
UID:
DTSTAMP:20260421T082432Z
SUMMARY:La soledad y el desarraigo en &#8216;La NO Comunidad&#8217;
DESCRIPTION:
PRIORITY:1
CLASS:PUBLIC
BEGIN:VALARM
TRIGGER:-PT10080M
ACTION:DISPLAY
DESCRIPTION:Reminder
END:VALARM
END:VEVENT
END:VCALENDAR
