BEGIN:VCALENDAR
VERSION:2.0
METHOD:PUBLISH
BEGIN:VEVENT
DTSTART:20151106T000100Z
DTEND:20151107T235900Z
LOCATION:Diferentes lugares
TRANSP:OPAQUE
SEQUENCE:0
UID:
DTSTAMP:20260422T174250Z
SUMMARY:Supertramp cancela sus conciertos de Madrid y Barcelona
DESCRIPTION:Supertramp ha anunciado la cancelación de su gira europea que iba a comenzar en noviembre de 2015 en Oporto e incluía espectáculos en 26 espacios diferentes en Francia, Alemania, Austria, Suiza, España, Italia, Bélgica, Holanda, Luxemburgo e Inglaterra. El 6 de noviembre la banda iba a estar en el Barclaycard Center de Madrid y el 7 de noviembre, en el Palau Sant Jordi de Barcelona.
PRIORITY:1
CLASS:PUBLIC
BEGIN:VALARM
TRIGGER:-PT10080M
ACTION:DISPLAY
DESCRIPTION:Reminder
END:VALARM
END:VEVENT
END:VCALENDAR
