BEGIN:VCALENDAR
VERSION:2.0
METHOD:PUBLISH
BEGIN:VEVENT
DTSTART:20180208T000000Z
DTEND:20180506T000000Z
LOCATION:Fundación Canal
TRANSP:OPAQUE
SEQUENCE:0
UID:
DTSTAMP:20260422T173923Z
SUMMARY:Todos los carteles de Toulouse-Lautrec
DESCRIPTION:La Fundación Canal expone por primera vez en Madrid la colección completa de carteles de Toulouse-Lautrec. 33 carteles realizados por el pintor posimpresionista, en los que retrató como nadie la efervescente vida del París de finales del siglo XIX.
PRIORITY:1
CLASS:PUBLIC
BEGIN:VALARM
TRIGGER:-PT10080M
ACTION:DISPLAY
DESCRIPTION:Reminder
END:VALARM
END:VEVENT
END:VCALENDAR
