BEGIN:VCALENDAR
VERSION:2.0
METHOD:PUBLISH
BEGIN:VEVENT
DTSTART:20130508T000100Z
DTEND:20130708T235900Z
LOCATION:Sala Municipal de Exposiciones San Benito, Valladolid
TRANSP:OPAQUE
SEQUENCE:0
UID:
DTSTAMP:20260419T161601Z
SUMMARY:Vivian Maier, una gran fotógrafa casi desconocida
DESCRIPTION:La Sala Municipal de Exposiciones San Benito de Valladolid acoge, del 8 de mayo al 8 de julio de 2013, la exposición Vivian Maier, Street Photographer, que incluye 120 fotografías y nueve películas en Super 8 de ambiente callejero de Nueva York y Chicago. Se trata de la primera gran muestra que se dedica en Europa a esta, hasta ahora, casi desconocida fotógrafa estadounidense.
PRIORITY:1
CLASS:PUBLIC
BEGIN:VALARM
TRIGGER:-PT10080M
ACTION:DISPLAY
DESCRIPTION:Reminder
END:VALARM
END:VEVENT
END:VCALENDAR
