BEGIN:VCALENDAR
VERSION:2.0
METHOD:PUBLISH
BEGIN:VEVENT
DTSTART:20160630T000000Z
DTEND:20160918T000000Z
LOCATION:Museo de Bellas Artes de Granada
TRANSP:OPAQUE
SEQUENCE:0
UID:
DTSTAMP:20260422T152725Z
SUMMARY:Falla y Zuloaga, una amistad muy fructífera
DESCRIPTION:El Museo de Bellas Artes de Granada acoge hasta el 18 de septiembre la exposición 'Zuloaga y Falla: historia de una amistad', que explora por primera vez en profundidad la relación personal y los proyectos profesionales que ambos autores desarrollaron en común, así como  la influencia que ambos artistas ejercieron entre sí y con su entorno.
PRIORITY:1
CLASS:PUBLIC
BEGIN:VALARM
TRIGGER:-PT10080M
ACTION:DISPLAY
DESCRIPTION:Reminder
END:VALARM
END:VEVENT
END:VCALENDAR
